{"text_format":"2","workbook":"xlsx","n_sheets":3,"sheets":["机器设备1","电子设备","其他设备"],"not_rendered":{"charts":0,"images":0,"macros":0,"external_links":16,"defined_names":134,"comments":0,"pivot_tables":0},"unopened":[],"bounds":{"document_bytes":16777216,"sheet_cells":100000,"run_cost":"one","rows_first":2000,"rows_last":500,"rows_between":2000,"halvings":0,"cell_chars":16384,"cell_head_chars":4096},"cells_cut":0,"cells_raw":0,"read":"whole","date_system":"1900"}

{"sheet":"机器设备1","index":0,"n_rows":112,"n_cols":10,"rows_kept":112,"cut":false,"hidden":false,"merged":[[0,0,0,9],[2,0,2,9],[4,9,5,9]]}
["固定资产--机器设备价格明细表"]
[]
[]
["宁波市振宁牧业有限公司",{"$nulls":8},"金额单位：人民币元"]
["序","资产","设备","规格型号","计量","数","购置","启用",null,"备注"]
["号","编号","名称","及有关参数","单位","量","日期","日期","变现价格"]
[1,null,"预混合饲料机组",null,null,null,"2007/09/01",null,0,"无实物"]
[2,null,"光纤激光打标机",null,"台",1,"2014/08/31",null,3950]
[3,null,"锅炉","双峰(FSQ)LHG07-S","台",1,"2018/10/31",null,16510]
[4,null,"哺箱",null,"台",1,"2000/06/01",null,180]
[5,null,"孵化机","三诚SCF（C）DM","台",5,"2000/06/01",null,2220]
[6,null,"湿帘（哺坊）",null,"台",1,"2010/09/01",null,0,"无价值"]
[7,null,"哺箱",null,"台",5,"2005/03/01",null,3700]
[8,null,"巷道式孵化机","三诚SCF（C）DM","台",2,"2007/10/01",null,1480]
{"$rows_empty":95}
[{"$nulls":8},{"$f":"#REF!*#REF!","v":{"$error":"#REF!"}}]
[{"$nulls":8},{"$f":"#REF!*#REF!","v":{"$error":"#REF!"}}]
[null,null,"合     计",{"$nulls":5},{"$f":"SUM(I7:I19)","v":28040}]

{"sheet":"电子设备","index":1,"n_rows":136,"n_cols":11,"rows_kept":136,"cut":false,"hidden":false,"merged":[[0,0,0,10],[2,0,2,10],[4,10,5,10],[135,2,135,3]]}
["固定资产--电子设备价格明细表"]
[]
[]
["宁波市振宁牧业有限公司",{"$nulls":9},"金额单位：人民币元"]
["序","资产","设备","规格","计量","数","存放","购置","启用",null,"备注"]
["号","编号","名称","型号","单位","量","地点","日期","日期","变现价格"]
[1,null,"空调","美的立式","台",null,null,"2012/07/31",null,430,"回收价"]
[2,null,"奥克斯空调","立式空调","台",null,null,"2013/08/31",null,430,"回收价"]
[3,null,"格力空调","幸福宝挂式","台",null,null,"2014/09/30",null,230,"回收价"]
[4,null,"奥克斯空调","挂式","台",null,null,"2013/08/31",null,230,"回收价"]
[5,null,"打印机",null,"台",null,null,"2015/01/31",null,20,"回收价"]
[6,null,"空调","美的立式","台",null,null,"2016/07/01",null,430,"回收价"]
[7,null,"复印机一台",null,"台",{"$nulls":4},1480,"重置价"]
[8,null,"新式电脑1台",null,"台",{"$nulls":4},60,"回收价"]
[9,null,"电脑主机1台","金河田","台",{"$nulls":4},40,"回收价"]
[10,null,"联想主机2个",null,"台",{"$nulls":4},80,"回收价"]
[11,null,"针式打印机1台",null,"台",{"$nulls":4},20,"回收价"]
[12,null,"财务台式电脑1个",null,"台",{"$nulls":4},60,"回收价"]
[13,null,"电脑1台","金河田主机、惠普显示器","台",{"$nulls":4},60,"回收价"]
[14,null,"惠普打印台1台（小）",null,"台",{"$nulls":4},20,"回收价"]
[15,null,"传真机","（三星SF-560R)","台",{"$nulls":4},20,"回收价"]
[16,null,"Power Train主机1台","电子设备","台",{"$nulls":4},60,"回收价"]
[17,null,"奥克斯空调","挂式","台",{"$nulls":4},230,"回收价"]
[18,null,"台式电脑1台","品牌不详","台",{"$nulls":4},60,"回收价"]
[19,null,"电脑（打印机）","金河田主机、菲力浦显示器","台",{"$nulls":4},70,"回收价"]
[20,null,"电脑","冠捷显示器电脑1台","台",{"$nulls":4},60,"回收价"]
[21,null,"空调","美的空调KER-72LW/SDY-GAA(E5)","台",{"$nulls":4},430,"回收价"]
[22]
[23]
[24]
[25]
[26]
[27]
[28]
[29]
[30]
[31]
[32]
[33]
[34]
[35]
[36]
[37]
[49,{"$nulls":8},{"$f":"ROUND(#REF!*#REF!,-1)","v":{"$error":"#REF!"}}]
[50,{"$nulls":8},{"$f":"ROUND(#REF!*#REF!,-1)","v":{"$error":"#REF!"}}]
[51,{"$nulls":8},{"$f":"ROUND(#REF!*#REF!,-1)","v":{"$error":"#REF!"}}]
[52,{"$nulls":8},{"$f":"ROUND(#REF!*#REF!,-1)","v":{"$error":"#REF!"}}]
[53,{"$nulls":8},{"$f":"ROUND(#REF!*#REF!,-1)","v":{"$error":"#REF!"}}]
[54,{"$nulls":8},{"$f":"ROUND(#REF!*#REF!,-1)","v":{"$error":"#REF!"}}]
[55,{"$nulls":8},{"$f":"ROUND(#REF!*#REF!,-1)","v":{"$error":"#REF!"}}]
[56,{"$nulls":8},{"$f":"ROUND(#REF!*#REF!,-1)","v":{"$error":"#REF!"}}]
[57,{"$nulls":8},{"$f":"ROUND(#REF!*#REF!,-1)","v":{"$error":"#REF!"}}]
[58,{"$nulls":8},{"$f":"ROUND(#REF!*#REF!,-1)","v":{"$error":"#REF!"}}]
[59,{"$nulls":8},{"$f":"ROUND(#REF!*#REF!,-1)","v":{"$error":"#REF!"}}]
[60,{"$nulls":8},{"$f":"ROUND(#REF!*#REF!,-1)","v":{"$error":"#REF!"}}]
[61,{"$nulls":8},{"$f":"ROUND(#REF!*#REF!,-1)","v":{"$error":"#REF!"}}]
[62,{"$nulls":8},{"$f":"ROUND(#REF!*#REF!,-1)","v":{"$error":"#REF!"}}]
[63,{"$nulls":8},{"$f":"ROUND(#REF!*#REF!,-1)","v":{"$error":"#REF!"}}]
[64,{"$nulls":8},{"$f":"ROUND(#REF!*#REF!,-1)","v":{"$error":"#REF!"}}]
[65,{"$nulls":8},{"$f":"ROUND(#REF!*#REF!,-1)","v":{"$error":"#REF!"}}]
[66,{"$nulls":8},{"$f":"ROUND(#REF!*#REF!,-1)","v":{"$error":"#REF!"}}]
[67,{"$nulls":8},{"$f":"ROUND(#REF!*#REF!,-1)","v":{"$error":"#REF!"}}]
[68,{"$nulls":8},{"$f":"ROUND(#REF!*#REF!,-1)","v":{"$error":"#REF!"}}]
[69,{"$nulls":8},{"$f":"ROUND(#REF!*#REF!,-1)","v":{"$error":"#REF!"}}]
[70,{"$nulls":8},{"$f":"ROUND(#REF!*#REF!,-1)","v":{"$error":"#REF!"}}]
[71,{"$nulls":8},{"$f":"ROUND(#REF!*#REF!,-1)","v":{"$error":"#REF!"}}]
[72,{"$nulls":8},{"$f":"ROUND(#REF!*#REF!,-1)","v":{"$error":"#REF!"}}]
[73,{"$nulls":8},{"$f":"ROUND(#REF!*#REF!,-1)","v":{"$error":"#REF!"}}]
[74,{"$nulls":8},{"$f":"ROUND(#REF!*#REF!,-1)","v":{"$error":"#REF!"}}]
[75,{"$nulls":8},{"$f":"ROUND(#REF!*#REF!,-1)","v":{"$error":"#REF!"}}]
[76,{"$nulls":8},{"$f":"ROUND(#REF!*#REF!,-1)","v":{"$error":"#REF!"}}]
[77,{"$nulls":8},{"$f":"ROUND(#REF!*#REF!,-1)","v":{"$error":"#REF!"}}]
[78,{"$nulls":8},{"$f":"ROUND(#REF!*#REF!,-1)","v":{"$error":"#REF!"}}]
[79,{"$nulls":8},{"$f":"ROUND(#REF!*#REF!,-1)","v":{"$error":"#REF!"}}]
[80,{"$nulls":8},{"$f":"ROUND(#REF!*#REF!,-1)","v":{"$error":"#REF!"}}]
[81,{"$nulls":8},{"$f":"ROUND(#REF!*#REF!,-1)","v":{"$error":"#REF!"}}]
[82,{"$nulls":8},{"$f":"ROUND(#REF!*#REF!,-1)","v":{"$error":"#REF!"}}]
[83,{"$nulls":8},{"$f":"ROUND(#REF!*#REF!,-1)","v":{"$error":"#REF!"}}]
[84,{"$nulls":8},{"$f":"ROUND(#REF!*#REF!,-1)","v":{"$error":"#REF!"}}]
[85,{"$nulls":8},{"$f":"ROUND(#REF!*#REF!,-1)","v":{"$error":"#REF!"}}]
[86,{"$nulls":8},{"$f":"ROUND(#REF!*#REF!,-1)","v":{"$error":"#REF!"}}]
[87,{"$nulls":8},{"$f":"ROUND(#REF!*#REF!,-1)","v":{"$error":"#REF!"}}]
[88,{"$nulls":8},{"$f":"ROUND(#REF!*#REF!,-1)","v":{"$error":"#REF!"}}]
[89,{"$nulls":8},{"$f":"ROUND(#REF!*#REF!,-1)","v":{"$error":"#REF!"}}]
[90,{"$nulls":8},{"$f":"ROUND(#REF!*#REF!,-1)","v":{"$error":"#REF!"}}]
[91,{"$nulls":8},{"$f":"ROUND(#REF!*#REF!,-1)","v":{"$error":"#REF!"}}]
[92,{"$nulls":8},{"$f":"ROUND(#REF!*#REF!,-1)","v":{"$error":"#REF!"}}]
[93,{"$nulls":8},{"$f":"ROUND(#REF!*#REF!,-1)","v":{"$error":"#REF!"}}]
[94,{"$nulls":8},{"$f":"ROUND(#REF!*#REF!,-1)","v":{"$error":"#REF!"}}]
[95,{"$nulls":8},{"$f":"ROUND(#REF!*#REF!,-1)","v":{"$error":"#REF!"}}]
[96,{"$nulls":8},{"$f":"ROUND(#REF!*#REF!,-1)","v":{"$error":"#REF!"}}]
[97,{"$nulls":8},{"$f":"ROUND(#REF!*#REF!,-1)","v":{"$error":"#REF!"}}]
[98,{"$nulls":8},{"$f":"ROUND(#REF!*#REF!,-1)","v":{"$error":"#REF!"}}]
[99,{"$nulls":8},{"$f":"ROUND(#REF!*#REF!,-1)","v":{"$error":"#REF!"}}]
[100,{"$nulls":8},{"$f":"ROUND(#REF!*#REF!,-1)","v":{"$error":"#REF!"}}]
[101,{"$nulls":8},{"$f":"ROUND(#REF!*#REF!,-1)","v":{"$error":"#REF!"}}]
[102,{"$nulls":8},{"$f":"ROUND(#REF!*#REF!,-1)","v":{"$error":"#REF!"}}]
[103,{"$nulls":8},{"$f":"ROUND(#REF!*#REF!,-1)","v":{"$error":"#REF!"}}]
[104,{"$nulls":8},{"$f":"ROUND(#REF!*#REF!,-1)","v":{"$error":"#REF!"}}]
[105,{"$nulls":8},{"$f":"ROUND(#REF!*#REF!,-1)","v":{"$error":"#REF!"}}]
[106,{"$nulls":8},{"$f":"ROUND(#REF!*#REF!,-1)","v":{"$error":"#REF!"}}]
[107,{"$nulls":8},{"$f":"ROUND(#REF!*#REF!,-1)","v":{"$error":"#REF!"}}]
[108,{"$nulls":8},{"$f":"ROUND(#REF!*#REF!,-1)","v":{"$error":"#REF!"}}]
[109,{"$nulls":8},{"$f":"ROUND(#REF!*#REF!,-1)","v":{"$error":"#REF!"}}]
[110,{"$nulls":8},{"$f":"ROUND(#REF!*#REF!,-1)","v":{"$error":"#REF!"}}]
[111,{"$nulls":8},{"$f":"ROUND(#REF!*#REF!,-1)","v":{"$error":"#REF!"}}]
[112,{"$nulls":8},{"$f":"ROUND(#REF!*#REF!,-1)","v":{"$error":"#REF!"}}]
[113,{"$nulls":8},{"$f":"ROUND(#REF!*#REF!,-1)","v":{"$error":"#REF!"}}]
[114,{"$nulls":8},{"$f":"ROUND(#REF!*#REF!,-1)","v":{"$error":"#REF!"}}]
[115,{"$nulls":8},{"$f":"ROUND(#REF!*#REF!,-1)","v":{"$error":"#REF!"}}]
[116,{"$nulls":8},{"$f":"ROUND(#REF!*#REF!,-1)","v":{"$error":"#REF!"}}]
[117,{"$nulls":8},{"$f":"ROUND(#REF!*#REF!,-1)","v":{"$error":"#REF!"}}]
[118,{"$nulls":8},{"$f":"ROUND(#REF!*#REF!,-1)","v":{"$error":"#REF!"}}]
[119,{"$nulls":8},{"$f":"ROUND(#REF!*#REF!,-1)","v":{"$error":"#REF!"}}]
[120,{"$nulls":8},{"$f":"ROUND(#REF!*#REF!,-1)","v":{"$error":"#REF!"}}]
[121,{"$nulls":8},{"$f":"ROUND(#REF!*#REF!,-1)","v":{"$error":"#REF!"}}]
[122,{"$nulls":8},{"$f":"ROUND(#REF!*#REF!,-1)","v":{"$error":"#REF!"}}]
[123,{"$nulls":8},{"$f":"ROUND(#REF!*#REF!,-1)","v":{"$error":"#REF!"}}]
[124,{"$nulls":8},{"$f":"ROUND(#REF!*#REF!,-1)","v":{"$error":"#REF!"}}]
[125,{"$nulls":8},{"$f":"ROUND(#REF!*#REF!,-1)","v":{"$error":"#REF!"}}]
[126,{"$nulls":8},{"$f":"ROUND(#REF!*#REF!,-1)","v":{"$error":"#REF!"}}]
[127,{"$nulls":8},{"$f":"ROUND(#REF!*#REF!,-1)","v":{"$error":"#REF!"}}]
[128,{"$nulls":8},{"$f":"ROUND(#REF!*#REF!,-1)","v":{"$error":"#REF!"}}]
[129,{"$nulls":8},{"$f":"ROUND(#REF!*#REF!,-1)","v":{"$error":"#REF!"}}]
[130,{"$nulls":8},{"$f":"ROUND(#REF!*#REF!,-1)","v":{"$error":"#REF!"}}]
[131,{"$nulls":8},{"$f":"ROUND(#REF!*#REF!,-1)","v":{"$error":"#REF!"}}]
[132,{"$nulls":8},{"$f":"ROUND(#REF!*#REF!,-1)","v":{"$error":"#REF!"}}]
[133,{"$nulls":8},{"$f":"ROUND(#REF!*#REF!,-1)","v":{"$error":"#REF!"}}]
[134,{"$nulls":8},{"$f":"ROUND(#REF!*#REF!,-1)","v":{"$error":"#REF!"}}]
[135,{"$nulls":8},{"$f":"ROUND(#REF!*#REF!,-1)","v":{"$error":"#REF!"}}]
[136,{"$nulls":8},{"$f":"ROUND(#REF!*#REF!,-1)","v":{"$error":"#REF!"}}]
[137,{"$nulls":8},{"$f":"ROUND(#REF!*#REF!,-1)","v":{"$error":"#REF!"}}]
[138,{"$nulls":8},{"$f":"ROUND(#REF!*#REF!,-1)","v":{"$error":"#REF!"}}]
[139]
[140]
[null,null,"合  计",{"$nulls":6},{"$f":"SUM(J7:J27)","v":4520}]

{"sheet":"其他设备","index":2,"n_rows":294,"n_cols":12,"rows_kept":294,"cut":false,"hidden":false,"merged":[[188,10,199,10],[293,2,293,3],[188,2,199,2],[188,8,199,8],[0,0,0,11],[2,0,2,11],[4,4,5,4],[4,11,5,11]]}
["固定资产--其他设备价格明细表"]
[]
[]
["宁波市振宁牧业有限公司",{"$nulls":10},"金额单位：人民币元"]
["序","资产","设备","规格","生产厂家/供货单位","计量","数","存放","购置","启用",null,"备注"]
["号","编号","名称","型号",null,"单位","量","地点","日期","日期","变现价格"]
[1,null,"大门挡车器",null,null,"套",null,null,"2012/04/30",null,null,"无实物"]
[2,null,"护栏网",null,null,"套",null,null,"2005/06/01",null,0,"无实物"]
[3,null,"办公桌/椅",null,null,"套",null,null,"2009/05/01",null,0,"无实物"]
[4,null,"桌椅家具",null,null,"套",null,null,"2013/08/31",null,0,"无实物"]
[5,null,"老板桌椅柜一套",null,null,"套",1,null,null,null,520]
[6,null,"墙边柜",null,null,"套",2,null,null,null,240]
[7,null,"会议桌椅一套",null,null,"套",1,null,null,null,560]
[8,null,"简易木柜10个",null,null,"套",10,null,null,null,680]
[9,null,"实木柜子4个",null,null,"套",4,null,null,null,1400]
[10,null,"玻璃门柜子4个",null,null,"套",4,null,null,null,270]
[11,null,"保险箱1个",null,null,"套",1,null,null,null,110]
[12,null,"木沙发4个",null,null,"套",4,null,null,null,910]
[13,null,"实木办公桌椅4套",null,null,"套",4,null,null,null,1220]
[]
[]
[]
[]
[{"$nulls":10},{"$f":"ROUND(#REF!*#REF!,-1)","v":{"$error":"#REF!"}}]
[{"$nulls":10},{"$f":"ROUND(#REF!*#REF!,-1)","v":{"$error":"#REF!"}}]
[{"$nulls":10},{"$f":"ROUND(#REF!*#REF!,-1)","v":{"$error":"#REF!"}}]
[{"$nulls":10},{"$f":"ROUND(#REF!*#REF!,-1)","v":{"$error":"#REF!"}}]
[{"$nulls":10},{"$f":"ROUND(#REF!*#REF!,-1)","v":{"$error":"#REF!"}}]
[{"$nulls":10},{"$f":"ROUND(#REF!*#REF!,-1)","v":{"$error":"#REF!"}}]
[27,{"$nulls":9},{"$f":"ROUND(#REF!*#REF!,-1)","v":{"$error":"#REF!"}}]
[28,{"$nulls":9},{"$f":"ROUND(#REF!*#REF!,-1)","v":{"$error":"#REF!"}}]
[29,{"$nulls":9},{"$f":"ROUND(#REF!*#REF!,-1)","v":{"$error":"#REF!"}}]
[30,{"$nulls":9},{"$f":"ROUND(#REF!*#REF!,-1)","v":{"$error":"#REF!"}}]
[31,{"$nulls":9},{"$f":"ROUND(#REF!*#REF!,-1)","v":{"$error":"#REF!"}}]
[32,{"$nulls":9},{"$f":"ROUND(#REF!*#REF!,-1)","v":{"$error":"#REF!"}}]
[33,{"$nulls":9},{"$f":"ROUND(#REF!*#REF!,-1)","v":{"$error":"#REF!"}}]
[34,{"$nulls":9},{"$f":"ROUND(#REF!*#REF!,-1)","v":{"$error":"#REF!"}}]
[35,{"$nulls":9},{"$f":"ROUND(#REF!*#REF!,-1)","v":{"$error":"#REF!"}}]
[36,{"$nulls":9},{"$f":"ROUND(#REF!*#REF!,-1)","v":{"$error":"#REF!"}}]
[37,{"$nulls":9},{"$f":"ROUND(#REF!*#REF!,-1)","v":{"$error":"#REF!"}}]
[38,{"$nulls":9},{"$f":"ROUND(#REF!*#REF!,-1)","v":{"$error":"#REF!"}}]
[39,{"$nulls":9},{"$f":"ROUND(#REF!*#REF!,-1)","v":{"$error":"#REF!"}}]
[40,{"$nulls":9},{"$f":"ROUND(#REF!*#REF!,-1)","v":{"$error":"#REF!"}}]
[41,{"$nulls":9},{"$f":"ROUND(#REF!*#REF!,-1)","v":{"$error":"#REF!"}}]
[42,{"$nulls":9},{"$f":"ROUND(#REF!*#REF!,-1)","v":{"$error":"#REF!"}}]
[43,{"$nulls":9},{"$f":"ROUND(#REF!*#REF!,-1)","v":{"$error":"#REF!"}}]
[44,{"$nulls":9},{"$f":"ROUND(#REF!*#REF!,-1)","v":{"$error":"#REF!"}}]
[45,{"$nulls":9},{"$f":"ROUND(#REF!*#REF!,-1)","v":{"$error":"#REF!"}}]
[46,{"$nulls":9},{"$f":"ROUND(#REF!*#REF!,-1)","v":{"$error":"#REF!"}}]
[47,{"$nulls":9},{"$f":"ROUND(#REF!*#REF!,-1)","v":{"$error":"#REF!"}}]
[48,{"$nulls":9},{"$f":"ROUND(#REF!*#REF!,-1)","v":{"$error":"#REF!"}}]
[49,{"$nulls":9},{"$f":"ROUND(#REF!*#REF!,-1)","v":{"$error":"#REF!"}}]
[50,{"$nulls":9},{"$f":"ROUND(#REF!*#REF!,-1)","v":{"$error":"#REF!"}}]
[51,{"$nulls":9},{"$f":"ROUND(#REF!*#REF!,-1)","v":{"$error":"#REF!"}}]
[52,{"$nulls":9},{"$f":"ROUND(#REF!*#REF!,-1)","v":{"$error":"#REF!"}}]
[53,{"$nulls":9},{"$f":"ROUND(#REF!*#REF!,-1)","v":{"$error":"#REF!"}}]
[54,{"$nulls":9},{"$f":"ROUND(#REF!*#REF!,-1)","v":{"$error":"#REF!"}}]
[55,{"$nulls":9},{"$f":"ROUND(#REF!*#REF!,-1)","v":{"$error":"#REF!"}}]
[56,{"$nulls":9},{"$f":"ROUND(#REF!*#REF!,-1)","v":{"$error":"#REF!"}}]
[57,{"$nulls":9},{"$f":"ROUND(#REF!*#REF!,-1)","v":{"$error":"#REF!"}}]
[58,{"$nulls":9},{"$f":"ROUND(#REF!*#REF!,-1)","v":{"$error":"#REF!"}}]
[59,{"$nulls":9},{"$f":"ROUND(#REF!*#REF!,-1)","v":{"$error":"#REF!"}}]
[60,{"$nulls":9},{"$f":"ROUND(#REF!*#REF!,-1)","v":{"$error":"#REF!"}}]
[61,{"$nulls":9},{"$f":"ROUND(#REF!*#REF!,-1)","v":{"$error":"#REF!"}}]
[62,{"$nulls":9},{"$f":"ROUND(#REF!*#REF!,-1)","v":{"$error":"#REF!"}}]
[63,{"$nulls":9},{"$f":"ROUND(#REF!*#REF!,-1)","v":{"$error":"#REF!"}}]
[64,{"$nulls":9},{"$f":"ROUND(#REF!*#REF!,-1)","v":{"$error":"#REF!"}}]
[65,{"$nulls":9},{"$f":"ROUND(#REF!*#REF!,-1)","v":{"$error":"#REF!"}}]
[66,{"$nulls":9},{"$f":"ROUND(#REF!*#REF!,-1)","v":{"$error":"#REF!"}}]
[67,{"$nulls":9},{"$f":"ROUND(#REF!*#REF!,-1)","v":{"$error":"#REF!"}}]
[68,{"$nulls":9},{"$f":"ROUND(#REF!*#REF!,-1)","v":{"$error":"#REF!"}}]
[69,{"$nulls":9},{"$f":"ROUND(#REF!*#REF!,-1)","v":{"$error":"#REF!"}}]
[70,{"$nulls":9},{"$f":"ROUND(#REF!*#REF!,-1)","v":{"$error":"#REF!"}}]
[71,{"$nulls":9},{"$f":"ROUND(#REF!*#REF!,-1)","v":{"$error":"#REF!"}}]
[72,{"$nulls":9},{"$f":"ROUND(#REF!*#REF!,-1)","v":{"$error":"#REF!"}}]
[73,{"$nulls":9},{"$f":"ROUND(#REF!*#REF!,-1)","v":{"$error":"#REF!"}}]
[74,{"$nulls":9},{"$f":"ROUND(#REF!*#REF!,-1)","v":{"$error":"#REF!"}}]
[75,{"$nulls":9},{"$f":"ROUND(#REF!*#REF!,-1)","v":{"$error":"#REF!"}}]
[76,{"$nulls":9},{"$f":"ROUND(#REF!*#REF!,-1)","v":{"$error":"#REF!"}}]
[77,{"$nulls":9},{"$f":"ROUND(#REF!*#REF!,-1)","v":{"$error":"#REF!"}}]
[78,{"$nulls":9},{"$f":"ROUND(#REF!*#REF!,-1)","v":{"$error":"#REF!"}}]
[79,{"$nulls":9},{"$f":"ROUND(#REF!*#REF!,-1)","v":{"$error":"#REF!"}}]
[80,{"$nulls":9},{"$f":"ROUND(#REF!*#REF!,-1)","v":{"$error":"#REF!"}}]
[81,{"$nulls":9},{"$f":"ROUND(#REF!*#REF!,-1)","v":{"$error":"#REF!"}}]
[82,{"$nulls":9},{"$f":"ROUND(#REF!*#REF!,-1)","v":{"$error":"#REF!"}}]
[83,{"$nulls":9},{"$f":"ROUND(#REF!*#REF!,-1)","v":{"$error":"#REF!"}}]
[84,{"$nulls":9},{"$f":"ROUND(#REF!*#REF!,-1)","v":{"$error":"#REF!"}}]
[85,{"$nulls":9},{"$f":"ROUND(#REF!*#REF!,-1)","v":{"$error":"#REF!"}}]
[86,{"$nulls":9},{"$f":"ROUND(#REF!*#REF!,-1)","v":{"$error":"#REF!"}}]
[87,{"$nulls":9},{"$f":"ROUND(#REF!*#REF!,-1)","v":{"$error":"#REF!"}}]
[88,{"$nulls":9},{"$f":"ROUND(#REF!*#REF!,-1)","v":{"$error":"#REF!"}}]
[89,{"$nulls":9},{"$f":"ROUND(#REF!*#REF!,-1)","v":{"$error":"#REF!"}}]
[90,{"$nulls":9},{"$f":"ROUND(#REF!*#REF!,-1)","v":{"$error":"#REF!"}}]
[91,{"$nulls":9},{"$f":"ROUND(#REF!*#REF!,-1)","v":{"$error":"#REF!"}}]
[92,{"$nulls":9},{"$f":"ROUND(#REF!*#REF!,-1)","v":{"$error":"#REF!"}}]
[93,{"$nulls":9},{"$f":"ROUND(#REF!*#REF!,-1)","v":{"$error":"#REF!"}}]
[94,{"$nulls":9},{"$f":"ROUND(#REF!*#REF!,-1)","v":{"$error":"#REF!"}}]
[95,{"$nulls":9},{"$f":"ROUND(#REF!*#REF!,-1)","v":{"$error":"#REF!"}}]
[96,{"$nulls":9},{"$f":"ROUND(#REF!*#REF!,-1)","v":{"$error":"#REF!"}}]
[97,{"$nulls":9},{"$f":"ROUND(#REF!*#REF!,-1)","v":{"$error":"#REF!"}}]
[98,{"$nulls":9},{"$f":"ROUND(#REF!*#REF!,-1)","v":{"$error":"#REF!"}}]
[99,{"$nulls":9},{"$f":"ROUND(#REF!*#REF!,-1)","v":{"$error":"#REF!"}}]
[100,{"$nulls":9},{"$f":"ROUND(#REF!*#REF!,-1)","v":{"$error":"#REF!"}}]
[101,{"$nulls":9},{"$f":"ROUND(#REF!*#REF!,-1)","v":{"$error":"#REF!"}}]
[102,{"$nulls":9},{"$f":"ROUND(#REF!*#REF!,-1)","v":{"$error":"#REF!"}}]
[103,{"$nulls":9},{"$f":"ROUND(#REF!*#REF!,-1)","v":{"$error":"#REF!"}}]
[104,{"$nulls":9},{"$f":"ROUND(#REF!*#REF!,-1)","v":{"$error":"#REF!"}}]
[105,{"$nulls":9},{"$f":"ROUND(#REF!*#REF!,-1)","v":{"$error":"#REF!"}}]
[106,{"$nulls":9},{"$f":"ROUND(#REF!*#REF!,-1)","v":{"$error":"#REF!"}}]
[107,{"$nulls":9},{"$f":"ROUND(#REF!*#REF!,-1)","v":{"$error":"#REF!"}}]
[108,{"$nulls":9},{"$f":"ROUND(#REF!*#REF!,-1)","v":{"$error":"#REF!"}}]
[109,{"$nulls":9},{"$f":"ROUND(#REF!*#REF!,-1)","v":{"$error":"#REF!"}}]
[110,{"$nulls":9},{"$f":"ROUND(#REF!*#REF!,-1)","v":{"$error":"#REF!"}}]
[111,{"$nulls":9},{"$f":"ROUND(#REF!*#REF!,-1)","v":{"$error":"#REF!"}}]
[112,{"$nulls":9},{"$f":"ROUND(#REF!*#REF!,-1)","v":{"$error":"#REF!"}}]
[113,{"$nulls":9},{"$f":"ROUND(#REF!*#REF!,-1)","v":{"$error":"#REF!"}}]
[114,{"$nulls":9},{"$f":"ROUND(#REF!*#REF!,-1)","v":{"$error":"#REF!"}}]
[115,{"$nulls":9},{"$f":"ROUND(#REF!*#REF!,-1)","v":{"$error":"#REF!"}}]
[116,{"$nulls":9},{"$f":"ROUND(#REF!*#REF!,-1)","v":{"$error":"#REF!"}}]
[117,{"$nulls":9},{"$f":"ROUND(#REF!*#REF!,-1)","v":{"$error":"#REF!"}}]
[118,{"$nulls":9},{"$f":"ROUND(#REF!*#REF!,-1)","v":{"$error":"#REF!"}}]
[119,{"$nulls":9},{"$f":"ROUND(#REF!*#REF!,-1)","v":{"$error":"#REF!"}}]
[120,{"$nulls":9},{"$f":"ROUND(#REF!*#REF!,-1)","v":{"$error":"#REF!"}}]
[121,{"$nulls":9},{"$f":"ROUND(#REF!*#REF!,-1)","v":{"$error":"#REF!"}}]
[122,{"$nulls":9},{"$f":"ROUND(#REF!*#REF!,-1)","v":{"$error":"#REF!"}}]
[123,{"$nulls":9},{"$f":"ROUND(#REF!*#REF!,-1)","v":{"$error":"#REF!"}}]
[124,{"$nulls":9},{"$f":"ROUND(#REF!*#REF!,-1)","v":{"$error":"#REF!"}}]
[125,{"$nulls":9},{"$f":"ROUND(#REF!*#REF!,-1)","v":{"$error":"#REF!"}}]
[126,{"$nulls":9},{"$f":"ROUND(#REF!*#REF!,-1)","v":{"$error":"#REF!"}}]
[127,{"$nulls":9},{"$f":"ROUND(#REF!*#REF!,-1)","v":{"$error":"#REF!"}}]
[128,{"$nulls":9},{"$f":"ROUND(#REF!*#REF!,-1)","v":{"$error":"#REF!"}}]
[129,{"$nulls":9},{"$f":"ROUND(#REF!*#REF!,-1)","v":{"$error":"#REF!"}}]
[130,{"$nulls":9},{"$f":"ROUND(#REF!*#REF!,-1)","v":{"$error":"#REF!"}}]
[131,{"$nulls":9},{"$f":"ROUND(#REF!*#REF!,-1)","v":{"$error":"#REF!"}}]
[132,{"$nulls":9},{"$f":"ROUND(#REF!*#REF!,-1)","v":{"$error":"#REF!"}}]
[133,{"$nulls":9},{"$f":"ROUND(#REF!*#REF!,-1)","v":{"$error":"#REF!"}}]
[134,{"$nulls":9},{"$f":"ROUND(#REF!*#REF!,-1)","v":{"$error":"#REF!"}}]
[135,{"$nulls":9},{"$f":"ROUND(#REF!*#REF!,-1)","v":{"$error":"#REF!"}}]
[136,{"$nulls":9},{"$f":"ROUND(#REF!*#REF!,-1)","v":{"$error":"#REF!"}}]
[137,{"$nulls":9},{"$f":"ROUND(#REF!*#REF!,-1)","v":{"$error":"#REF!"}}]
[138,{"$nulls":9},{"$f":"ROUND(#REF!*#REF!,-1)","v":{"$error":"#REF!"}}]
[139,{"$nulls":9},{"$f":"ROUND(#REF!*#REF!,-1)","v":{"$error":"#REF!"}}]
[140,{"$nulls":9},{"$f":"ROUND(#REF!*#REF!,-1)","v":{"$error":"#REF!"}}]
[141,{"$nulls":9},{"$f":"ROUND(#REF!*#REF!,-1)","v":{"$error":"#REF!"}}]
[142,{"$nulls":9},{"$f":"ROUND(#REF!*#REF!,-1)","v":{"$error":"#REF!"}}]
[143,{"$nulls":9},{"$f":"ROUND(#REF!*#REF!,-1)","v":{"$error":"#REF!"}}]
[144,{"$nulls":9},{"$f":"ROUND(#REF!*#REF!,-1)","v":{"$error":"#REF!"}}]
[145,{"$nulls":9},{"$f":"ROUND(#REF!*#REF!,-1)","v":{"$error":"#REF!"}}]
[146,{"$nulls":9},{"$f":"ROUND(#REF!*#REF!,-1)","v":{"$error":"#REF!"}}]
[147,{"$nulls":9},{"$f":"ROUND(#REF!*#REF!,-1)","v":{"$error":"#REF!"}}]
[148,{"$nulls":9},{"$f":"ROUND(#REF!*#REF!,-1)","v":{"$error":"#REF!"}}]
[149,{"$nulls":9},{"$f":"ROUND(#REF!*#REF!,-1)","v":{"$error":"#REF!"}}]
[150,{"$nulls":9},{"$f":"ROUND(#REF!*#REF!,-1)","v":{"$error":"#REF!"}}]
[151,{"$nulls":9},{"$f":"ROUND(#REF!*#REF!,-1)","v":{"$error":"#REF!"}}]
[152,{"$nulls":9},{"$f":"ROUND(#REF!*#REF!,-1)","v":{"$error":"#REF!"}}]
[153,{"$nulls":9},{"$f":"ROUND(#REF!*#REF!,-1)","v":{"$error":"#REF!"}}]
[154,{"$nulls":9},{"$f":"ROUND(#REF!*#REF!,-1)","v":{"$error":"#REF!"}}]
[155,{"$nulls":9},{"$f":"ROUND(#REF!*#REF!,-1)","v":{"$error":"#REF!"}}]
[156,{"$nulls":9},{"$f":"ROUND(#REF!*#REF!,-1)","v":{"$error":"#REF!"}}]
[157,{"$nulls":9},{"$f":"ROUND(#REF!*#REF!,-1)","v":{"$error":"#REF!"}}]
[158,{"$nulls":9},{"$f":"ROUND(#REF!*#REF!,-1)","v":{"$error":"#REF!"}}]
[159,{"$nulls":9},{"$f":"ROUND(#REF!*#REF!,-1)","v":{"$error":"#REF!"}}]
[160,{"$nulls":9},{"$f":"ROUND(#REF!*#REF!,-1)","v":{"$error":"#REF!"}}]
[161,{"$nulls":9},{"$f":"ROUND(#REF!*#REF!,-1)","v":{"$error":"#REF!"}}]
[162,{"$nulls":9},{"$f":"ROUND(#REF!*#REF!,-1)","v":{"$error":"#REF!"}}]
[163,{"$nulls":9},{"$f":"ROUND(#REF!*#REF!,-1)","v":{"$error":"#REF!"}}]
[164,{"$nulls":9},{"$f":"ROUND(#REF!*#REF!,-1)","v":{"$error":"#REF!"}}]
[165,{"$nulls":9},{"$f":"ROUND(#REF!*#REF!,-1)","v":{"$error":"#REF!"}}]
[166,{"$nulls":9},{"$f":"ROUND(#REF!*#REF!,-1)","v":{"$error":"#REF!"}}]
[167,{"$nulls":9},{"$f":"ROUND(#REF!*#REF!,-1)","v":{"$error":"#REF!"}}]
[168,{"$nulls":9},{"$f":"ROUND(#REF!*#REF!,-1)","v":{"$error":"#REF!"}}]
[169,{"$nulls":9},{"$f":"ROUND(#REF!*#REF!,-1)","v":{"$error":"#REF!"}}]
[170,{"$nulls":9},{"$f":"ROUND(#REF!*#REF!,-1)","v":{"$error":"#REF!"}}]
[171,{"$nulls":9},{"$f":"ROUND(#REF!*#REF!,-1)","v":{"$error":"#REF!"}}]
[172,{"$nulls":9},{"$f":"ROUND(#REF!*#REF!,-1)","v":{"$error":"#REF!"}}]
[173,{"$nulls":9},{"$f":"ROUND(#REF!*#REF!,-1)","v":{"$error":"#REF!"}}]
[174,{"$nulls":9},{"$f":"ROUND(#REF!*#REF!,-1)","v":{"$error":"#REF!"}}]
[175,{"$nulls":9},{"$f":"ROUND(#REF!*#REF!,-1)","v":{"$error":"#REF!"}}]
[176,{"$nulls":9},{"$f":"ROUND(#REF!*#REF!,-1)","v":{"$error":"#REF!"}}]
[177,{"$nulls":9},{"$f":"ROUND(#REF!*#REF!,-1)","v":{"$error":"#REF!"}}]
[178,{"$nulls":9},{"$f":"ROUND(#REF!*#REF!,-1)","v":{"$error":"#REF!"}}]
[179,{"$nulls":9},{"$f":"ROUND(#REF!*#REF!,-1)","v":{"$error":"#REF!"}}]
[180,{"$nulls":9},{"$f":"ROUND(#REF!*#REF!,-1)","v":{"$error":"#REF!"}}]
[181,{"$nulls":9},{"$f":"ROUND(#REF!*#REF!,-1)","v":{"$error":"#REF!"}}]
[182,{"$nulls":9},{"$f":"ROUND(#REF!*#REF!,-1)","v":{"$error":"#REF!"}}]
[183,{"$nulls":9},{"$f":"ROUND(#REF!*#REF!,-1)","v":{"$error":"#REF!"}}]
[184,{"$nulls":9},{"$f":"ROUND(#REF!*#REF!,-1)","v":{"$error":"#REF!"}}]
[185,{"$nulls":9},{"$f":"ROUND(#REF!*#REF!,-1)","v":{"$error":"#REF!"}}]
[186,{"$nulls":9},{"$f":"ROUND(#REF!*#REF!,-1)","v":{"$error":"#REF!"}}]
[187]
[188]
[189]
[190]
[191]
[192]
[193]
[194]
[195]
[196]
[197]
[198,{"$nulls":9},{"$f":"ROUND(#REF!*#REF!,-1)","v":{"$error":"#REF!"}}]
[199,{"$nulls":9},{"$f":"ROUND(#REF!*#REF!,-1)","v":{"$error":"#REF!"}}]
[200,{"$nulls":9},{"$f":"ROUND(#REF!*#REF!,-1)","v":{"$error":"#REF!"}}]
[201,{"$nulls":9},{"$f":"ROUND(#REF!*#REF!,-1)","v":{"$error":"#REF!"}}]
[202,{"$nulls":9},{"$f":"ROUND(#REF!*#REF!,-1)","v":{"$error":"#REF!"}}]
[203,{"$nulls":9},{"$f":"ROUND(#REF!*#REF!,-1)","v":{"$error":"#REF!"}}]
[204,{"$nulls":9},{"$f":"ROUND(#REF!*#REF!,-1)","v":{"$error":"#REF!"}}]
[205,{"$nulls":9},{"$f":"ROUND(#REF!*#REF!,-1)","v":{"$error":"#REF!"}}]
[206,{"$nulls":9},{"$f":"ROUND(#REF!*#REF!,-1)","v":{"$error":"#REF!"}}]
[207,{"$nulls":9},{"$f":"ROUND(#REF!*#REF!,-1)","v":{"$error":"#REF!"}}]
[208,{"$nulls":9},{"$f":"ROUND(#REF!*#REF!,-1)","v":{"$error":"#REF!"}}]
[209,{"$nulls":9},{"$f":"ROUND(#REF!*#REF!,-1)","v":{"$error":"#REF!"}}]
[210,{"$nulls":9},{"$f":"ROUND(#REF!*#REF!,-1)","v":{"$error":"#REF!"}}]
[211,{"$nulls":9},{"$f":"ROUND(#REF!*#REF!,-1)","v":{"$error":"#REF!"}}]
[212,{"$nulls":9},{"$f":"ROUND(#REF!*#REF!,-1)","v":{"$error":"#REF!"}}]
[213,{"$nulls":9},{"$f":"ROUND(#REF!*#REF!,-1)","v":{"$error":"#REF!"}}]
[214,{"$nulls":9},{"$f":"ROUND(#REF!*#REF!,-1)","v":{"$error":"#REF!"}}]
[215,{"$nulls":9},{"$f":"ROUND(#REF!*#REF!,-1)","v":{"$error":"#REF!"}}]
[216,{"$nulls":9},{"$f":"ROUND(#REF!*#REF!,-1)","v":{"$error":"#REF!"}}]
[217,{"$nulls":9},{"$f":"ROUND(#REF!*#REF!,-1)","v":{"$error":"#REF!"}}]
[218,{"$nulls":9},{"$f":"ROUND(#REF!*#REF!,-1)","v":{"$error":"#REF!"}}]
[219,{"$nulls":9},{"$f":"ROUND(#REF!*#REF!,-1)","v":{"$error":"#REF!"}}]
[220,{"$nulls":9},{"$f":"ROUND(#REF!*#REF!,-1)","v":{"$error":"#REF!"}}]
[221,{"$nulls":9},{"$f":"ROUND(#REF!*#REF!,-1)","v":{"$error":"#REF!"}}]
[222,{"$nulls":9},{"$f":"ROUND(#REF!*#REF!,-1)","v":{"$error":"#REF!"}}]
[223,{"$nulls":9},{"$f":"ROUND(#REF!*#REF!,-1)","v":{"$error":"#REF!"}}]
[224,{"$nulls":9},{"$f":"ROUND(#REF!*#REF!,-1)","v":{"$error":"#REF!"}}]
[225,{"$nulls":9},{"$f":"ROUND(#REF!*#REF!,-1)","v":{"$error":"#REF!"}}]
[226,{"$nulls":9},{"$f":"ROUND(#REF!*#REF!,-1)","v":{"$error":"#REF!"}}]
[227,{"$nulls":9},{"$f":"ROUND(#REF!*#REF!,-1)","v":{"$error":"#REF!"}}]
[228,{"$nulls":9},{"$f":"ROUND(#REF!*#REF!,-1)","v":{"$error":"#REF!"}}]
[229,{"$nulls":9},{"$f":"ROUND(#REF!*#REF!,-1)","v":{"$error":"#REF!"}}]
[230,{"$nulls":9},{"$f":"ROUND(#REF!*#REF!,-1)","v":{"$error":"#REF!"}}]
[231,{"$nulls":9},{"$f":"ROUND(#REF!*#REF!,-1)","v":{"$error":"#REF!"}}]
[232,{"$nulls":9},{"$f":"ROUND(#REF!*#REF!,-1)","v":{"$error":"#REF!"}}]
[233,{"$nulls":9},{"$f":"ROUND(#REF!*#REF!,-1)","v":{"$error":"#REF!"}}]
[234,{"$nulls":9},{"$f":"ROUND(#REF!*#REF!,-1)","v":{"$error":"#REF!"}}]
[235,{"$nulls":9},{"$f":"ROUND(#REF!*#REF!,-1)","v":{"$error":"#REF!"}}]
[236,{"$nulls":9},{"$f":"ROUND(#REF!*#REF!,-1)","v":{"$error":"#REF!"}}]
[237,{"$nulls":9},{"$f":"ROUND(#REF!*#REF!,-1)","v":{"$error":"#REF!"}}]
[238,{"$nulls":9},{"$f":"ROUND(#REF!*#REF!,-1)","v":{"$error":"#REF!"}}]
[239,{"$nulls":9},{"$f":"ROUND(#REF!*#REF!,-1)","v":{"$error":"#REF!"}}]
[240,{"$nulls":9},{"$f":"ROUND(#REF!*#REF!,-1)","v":{"$error":"#REF!"}}]
[241,{"$nulls":9},{"$f":"ROUND(#REF!*#REF!,-1)","v":{"$error":"#REF!"}}]
[242,{"$nulls":9},{"$f":"ROUND(#REF!*#REF!,-1)","v":{"$error":"#REF!"}}]
[243,{"$nulls":9},{"$f":"ROUND(#REF!*#REF!,-1)","v":{"$error":"#REF!"}}]
[244,{"$nulls":9},{"$f":"ROUND(#REF!*#REF!,-1)","v":{"$error":"#REF!"}}]
[245,{"$nulls":9},{"$f":"ROUND(#REF!*#REF!,-1)","v":{"$error":"#REF!"}}]
[246,{"$nulls":9},{"$f":"ROUND(#REF!*#REF!,-1)","v":{"$error":"#REF!"}}]
[247,{"$nulls":9},{"$f":"ROUND(#REF!*#REF!,-1)","v":{"$error":"#REF!"}}]
[248,{"$nulls":9},{"$f":"ROUND(#REF!*#REF!,-1)","v":{"$error":"#REF!"}}]
[249,{"$nulls":9},{"$f":"ROUND(#REF!*#REF!,-1)","v":{"$error":"#REF!"}}]
[250,{"$nulls":9},{"$f":"ROUND(#REF!*#REF!,-1)","v":{"$error":"#REF!"}}]
[251,{"$nulls":9},{"$f":"ROUND(#REF!*#REF!,-1)","v":{"$error":"#REF!"}}]
[252,{"$nulls":9},{"$f":"ROUND(#REF!*#REF!,-1)","v":{"$error":"#REF!"}}]
[253,{"$nulls":9},{"$f":"ROUND(#REF!*#REF!,-1)","v":{"$error":"#REF!"}}]
[254,{"$nulls":9},{"$f":"ROUND(#REF!*#REF!,-1)","v":{"$error":"#REF!"}}]
[255,{"$nulls":9},{"$f":"ROUND(#REF!*#REF!,-1)","v":{"$error":"#REF!"}}]
[256,{"$nulls":9},{"$f":"ROUND(#REF!*#REF!,-1)","v":{"$error":"#REF!"}}]
[257,{"$nulls":9},{"$f":"ROUND(#REF!*#REF!,-1)","v":{"$error":"#REF!"}}]
[258,{"$nulls":9},{"$f":"ROUND(#REF!*#REF!,-1)","v":{"$error":"#REF!"}}]
[259,{"$nulls":9},{"$f":"ROUND(#REF!*#REF!,-1)","v":{"$error":"#REF!"}}]
[260,{"$nulls":9},{"$f":"ROUND(#REF!*#REF!,-1)","v":{"$error":"#REF!"}}]
[261,{"$nulls":9},{"$f":"ROUND(#REF!*#REF!,-1)","v":{"$error":"#REF!"}}]
[262,{"$nulls":9},{"$f":"ROUND(#REF!*#REF!,-1)","v":{"$error":"#REF!"}}]
[263,{"$nulls":9},{"$f":"ROUND(#REF!*#REF!,-1)","v":{"$error":"#REF!"}}]
[264,{"$nulls":9},{"$f":"ROUND(#REF!*#REF!,-1)","v":{"$error":"#REF!"}}]
[265,{"$nulls":9},{"$f":"ROUND(#REF!*#REF!,-1)","v":{"$error":"#REF!"}}]
[266,{"$nulls":9},{"$f":"ROUND(#REF!*#REF!,-1)","v":{"$error":"#REF!"}}]
[267,{"$nulls":9},{"$f":"ROUND(#REF!*#REF!,-1)","v":{"$error":"#REF!"}}]
[268,{"$nulls":9},{"$f":"ROUND(#REF!*#REF!,-1)","v":{"$error":"#REF!"}}]
[269,{"$nulls":9},{"$f":"ROUND(#REF!*#REF!,-1)","v":{"$error":"#REF!"}}]
[270,{"$nulls":9},{"$f":"ROUND(#REF!*#REF!,-1)","v":{"$error":"#REF!"}}]
[271,{"$nulls":9},{"$f":"ROUND(#REF!*#REF!,-1)","v":{"$error":"#REF!"}}]
[272,{"$nulls":9},{"$f":"ROUND(#REF!*#REF!,-1)","v":{"$error":"#REF!"}}]
[273,{"$nulls":9},{"$f":"ROUND(#REF!*#REF!,-1)","v":{"$error":"#REF!"}}]
[274,{"$nulls":9},{"$f":"ROUND(#REF!*#REF!,-1)","v":{"$error":"#REF!"}}]
[275,{"$nulls":9},{"$f":"ROUND(#REF!*#REF!,-1)","v":{"$error":"#REF!"}}]
[276,{"$nulls":9},{"$f":"ROUND(#REF!*#REF!,-1)","v":{"$error":"#REF!"}}]
[277,{"$nulls":9},{"$f":"ROUND(#REF!*#REF!,-1)","v":{"$error":"#REF!"}}]
[278,{"$nulls":9},{"$f":"ROUND(#REF!*#REF!,-1)","v":{"$error":"#REF!"}}]
[279,{"$nulls":9},{"$f":"ROUND(#REF!*#REF!,-1)","v":{"$error":"#REF!"}}]
[280,{"$nulls":9},{"$f":"ROUND(#REF!*#REF!,-1)","v":{"$error":"#REF!"}}]
[281,{"$nulls":9},{"$f":"ROUND(#REF!*#REF!,-1)","v":{"$error":"#REF!"}}]
[282,{"$nulls":9},{"$f":"ROUND(#REF!*#REF!,-1)","v":{"$error":"#REF!"}}]
[283,{"$nulls":9},{"$f":"ROUND(#REF!*#REF!,-1)","v":{"$error":"#REF!"}}]
[284,{"$nulls":9},{"$f":"ROUND(#REF!*#REF!,-1)","v":{"$error":"#REF!"}}]
[285]
[286]
[287]
[288]
[289]
[290]
[null,null,"合  计",{"$nulls":7},{"$f":"SUM(K7:K23)","v":5910}]